BEGIN:VCALENDAR
VERSION:2.0
PRODID:-//Kansas City Cauldron - ECPv6.15.20//NONSGML v1.0//EN
CALSCALE:GREGORIAN
METHOD:PUBLISH
X-WR-CALNAME:Kansas City Cauldron
X-ORIGINAL-URL:https://kccauldron.com
X-WR-CALDESC:Events for Kansas City Cauldron
REFRESH-INTERVAL;VALUE=DURATION:PT1H
X-Robots-Tag:noindex
X-PUBLISHED-TTL:PT1H
BEGIN:VTIMEZONE
TZID:America/Chicago
BEGIN:DAYLIGHT
TZOFFSETFROM:-0600
TZOFFSETTO:-0500
TZNAME:CDT
DTSTART:20240310T080000
END:DAYLIGHT
BEGIN:STANDARD
TZOFFSETFROM:-0500
TZOFFSETTO:-0600
TZNAME:CST
DTSTART:20241103T070000
END:STANDARD
BEGIN:DAYLIGHT
TZOFFSETFROM:-0600
TZOFFSETTO:-0500
TZNAME:CDT
DTSTART:20250309T080000
END:DAYLIGHT
BEGIN:STANDARD
TZOFFSETFROM:-0500
TZOFFSETTO:-0600
TZNAME:CST
DTSTART:20251102T070000
END:STANDARD
BEGIN:DAYLIGHT
TZOFFSETFROM:-0600
TZOFFSETTO:-0500
TZNAME:CDT
DTSTART:20260308T080000
END:DAYLIGHT
BEGIN:STANDARD
TZOFFSETFROM:-0500
TZOFFSETTO:-0600
TZNAME:CST
DTSTART:20261101T070000
END:STANDARD
END:VTIMEZONE
BEGIN:VEVENT
DTSTART;TZID=America/Chicago:20251015T180000
DTEND;TZID=America/Chicago:20251015T180000
DTSTAMP:20260421T035711
CREATED:20251003T141437Z
LAST-MODIFIED:20251003T141437Z
UID:5370-1760551200-1760551200@kccauldron.com
SUMMARY:Tifo Painting 10/15 - Day 2
DESCRIPTION:TIFO PAINITNG IS BACK!!! \nCome join us as we paint our last tifo of the year for the 10/18 match! \nWear clothes you don’t mind getting paint on. \n\nStart Time: 6pm\nParking: Red Lot\nEntry: Security Office\n\nWe estimate that we’ll be done around 10:00pm but there’s a chance it could go later. \nFeel free to come one\, or all three days. If you can only paint for an hour or two that is perfectly fine\, all help is appreciated and everyone is welcome!! \nExcited to see you there!!
URL:https://kccauldron.com/event/tifo-painting-10-15-day-2/
LOCATION:Sporting Park\, One Sporting Way\, Kansas City\, KS\, 66111\, United States
CATEGORIES:All Are Welcome
ATTACH;FMTTYPE=image/jpeg:https://kccauldron.com/wp-content/uploads/2025/05/A-New-Hope-tifo.jpg
GEO:39.121707854193;-94.82316386269
X-APPLE-STRUCTURED-LOCATION;VALUE=URI;X-ADDRESS=Sporting Park One Sporting Way Kansas City KS 66111 United States;X-APPLE-RADIUS=500;X-TITLE=One Sporting Way:geo:-94.82316386269,39.121707854193
END:VEVENT
END:VCALENDAR