BEGIN:VCALENDAR
VERSION:2.0
PRODID:-//Kansas City Cauldron - ECPv6.15.20//NONSGML v1.0//EN
CALSCALE:GREGORIAN
METHOD:PUBLISH
X-WR-CALNAME:Kansas City Cauldron
X-ORIGINAL-URL:https://kccauldron.com
X-WR-CALDESC:Events for Kansas City Cauldron
REFRESH-INTERVAL;VALUE=DURATION:PT1H
X-Robots-Tag:noindex
X-PUBLISHED-TTL:PT1H
BEGIN:VTIMEZONE
TZID:America/Chicago
BEGIN:DAYLIGHT
TZOFFSETFROM:-0600
TZOFFSETTO:-0500
TZNAME:CDT
DTSTART:20240310T080000
END:DAYLIGHT
BEGIN:STANDARD
TZOFFSETFROM:-0500
TZOFFSETTO:-0600
TZNAME:CST
DTSTART:20241103T070000
END:STANDARD
BEGIN:DAYLIGHT
TZOFFSETFROM:-0600
TZOFFSETTO:-0500
TZNAME:CDT
DTSTART:20250309T080000
END:DAYLIGHT
BEGIN:STANDARD
TZOFFSETFROM:-0500
TZOFFSETTO:-0600
TZNAME:CST
DTSTART:20251102T070000
END:STANDARD
BEGIN:DAYLIGHT
TZOFFSETFROM:-0600
TZOFFSETTO:-0500
TZNAME:CDT
DTSTART:20260308T080000
END:DAYLIGHT
BEGIN:STANDARD
TZOFFSETFROM:-0500
TZOFFSETTO:-0600
TZNAME:CST
DTSTART:20261101T070000
END:STANDARD
END:VTIMEZONE
BEGIN:VEVENT
DTSTART;TZID=America/Chicago:20250809T163000
DTEND;TZID=America/Chicago:20250809T235900
DTSTAMP:20260425T030233
CREATED:20250201T222010Z
LAST-MODIFIED:20260302T173200Z
UID:4446-1754757000-1754783940@kccauldron.com
SUMMARY:Outdoor Tailgate & Cornhole Tournament
DESCRIPTION:August 9\, 2025 vs. San Diego FC\nWe’ll have “Rosey’s” Purple Palmer Gin Cocktail\, made with Lifted Spirits Bright Gin and Rochester Brewing’s Purple Palmer lavendar and tea syrup\, a keg of Boulevard and plenty of Quirk. Stockyards Brewing and Lucky Bucket Brewing have provided canned beer selections for you as well as other local craft beers\, selzers\, and ciders that the Cauldron has purchased\, including several cases of Callsign Brewing as our support in conjunction with the team’s Salute to Service match! \nRemember\, we’ve never lost a tailgate! \n\nCauldron Cornhole Tournament\n \nDust off your beanbags and grab your favorite partner! It’s time for some friendly competition and good times at our inaugural Cornhole Tournament at our tailgate on August 9th! \nWhether you’re a seasoned pro or just love to toss bags\, this is your chance to show off your skills\, enjoy some laughs\, and maybe even walk away with bragging rights (and a prize!). This tournament is all about fun\, teamwork\, and a little bit of competitive spirit. So\, round up your partner and start practicing your perfect throw! \nRegistration is now closed. \n  \nPairings\nLoading brackets... \nTeams\n\n\n\nDrink Beer\, Go Wiz\nZac Fletcher\nHannah Erickson\n\n\nI Don’t Care!\nManuel Carrera\nLaura Carrera\n\n\nMares\nCrystal Mares\nJon Mares\n\n\nMartin Mayhem\nDustin Martin\nAndrew Martin\n\n\nOff to See the Wizards\nIsaac Bailey\nJoss Bathke\n\n\nOz Cookin’\nBrian Cooke\nJohn Stewart\n\n\nRadoja Cats (No Show\, players substituted) \nScott Brown\nScott Brown (The other one)\n\n\nTrue Blue\nVirginia Mollinedo\nKristy Lambert\n\n\n\n  \n\nHave A Tailgate Music Request?\nHit Us Up \nSelections played at the DJ’s discretion. Songs should be appropriate for a tailgate vibe. Songs with explicit lyrics may be rejected\, depending on content.  \n\n\nOutdoor Tailgate   (NEW LOCATION!!!)\nSchedule\n4:30pm – Parking Lot Opens / Tailgate Begins\n5:30pm – Budweiser Brew House Opens\n6:00pm – Seats Open\n7:30pm – Kick Off \n\n  \nGeneral Tailgate Information\n\nOutdoor Tailgates\nAs always we are proud to partner with local Kansas City breweries and distilleries and wish to thank our tailgate partners: \n2025 Tailgate Partners​ \n\n\n\n\n\n\n\n\n\n\n\n\n\n\n\n\n\n\n\n\n\n\n\n\n\n\n\n\n\n\n\n\n\n\n\n\n\n\n\n\n\n\n\n\n\n\n\n\n\n\n\n\n\n  \nWe’ll also have a wide selection of other local alcohol (including local craft beers and seltzers) & non-alcoholic drinks available. \nAs always the tailgate drinks are an included benefit for Cauldron Members and only a $10 donation for non-members. \n\nChildren’s Mercy Park Tailgate Location\nWe’ll be setup in our new location IN THE BLUE 2 LOT. \n  \nView Tailgate Map \n\nIndoor Tailgates\nIndoor tailgates are for current Cauldron Members only. Guest donations cannot be purchased\, but you may purchase your 2025 Cauldron Membership with your phone and show us the receipt for your purchase\, if you forgot to purchase it in advance. \n\nMembership Cards & Scarves\nIf you have not yet picked up your membership card\, you can do so during any of our tailgates. \nFor those who purchased their 2025 KC Cauldron Membership by January 25th\, the 2025 Membership scarves were available at the Season Kickoff Party and the first five (5) outdoor tailgates. After that\, the remaining scarves were mailed to the address associated with your membership on April 15th. \n\nStadium Entry\nThe BBH Tailgates open 30 minutes early for Cauldron Members\, have your membership card out and ready to go. \n\nWater\nYou can bring in an empty soft sided bottle that does not exceed 20 oz. and fill it once inside the stadium. We have collapsible Cauldron water bottles available for purchase in our Store and at outdoor tailgates. \n\nCode of Conduct\nIn all stadiums around the MLS Supporters Groups are being reminded that we need to follow the Fan Code of Conduct and have good sportsmanship before\, during\, and after the match. \nMLS Fan Code of Conduct \nLet’s remember that the mission of The Cauldron is\, and always will be\, to support Sporting KC. All Cauldron Members and Affiliated ISG’s are reminded to follow the Cauldron Code of Conduct. \nCauldron Code of Conduct \nUntil 2023\, CMP has had a “no flags during game play” rule that was in place since the stadium opened. That year Sporting allowed Flags during game play in Section 9\, Rows 8-12. We are working with Sporting to continue this again for the 2025. It is an evolving project/conversation with the team\, so expect to hear more about this throughout the season.
URL:https://kccauldron.com/event/outdoor-tailgate-cornhole-tournament/
LOCATION:Sporting Park Blue Lot 2\, Blue Lot 2\, Kansas City\, KS\, 66111\, United States
CATEGORIES:Tailgates
ATTACH;FMTTYPE=image/png:https://kccauldron.com/wp-content/uploads/2025/02/Cauldron-Cornhole-Tourney.png
GEO:39.122350327201;-94.827591981498
X-APPLE-STRUCTURED-LOCATION;VALUE=URI;X-ADDRESS=Sporting Park Blue Lot 2 Blue Lot 2 Kansas City KS 66111 United States;X-APPLE-RADIUS=500;X-TITLE=Blue Lot 2:geo:-94.827591981498,39.122350327201
END:VEVENT
END:VCALENDAR