BEGIN:VCALENDAR
VERSION:2.0
PRODID:-//Kansas City Cauldron - ECPv6.15.20//NONSGML v1.0//EN
CALSCALE:GREGORIAN
METHOD:PUBLISH
X-WR-CALNAME:Kansas City Cauldron
X-ORIGINAL-URL:https://kccauldron.com
X-WR-CALDESC:Events for Kansas City Cauldron
REFRESH-INTERVAL;VALUE=DURATION:PT1H
X-Robots-Tag:noindex
X-PUBLISHED-TTL:PT1H
BEGIN:VTIMEZONE
TZID:America/Chicago
BEGIN:DAYLIGHT
TZOFFSETFROM:-0600
TZOFFSETTO:-0500
TZNAME:CDT
DTSTART:20240310T080000
END:DAYLIGHT
BEGIN:STANDARD
TZOFFSETFROM:-0500
TZOFFSETTO:-0600
TZNAME:CST
DTSTART:20241103T070000
END:STANDARD
BEGIN:DAYLIGHT
TZOFFSETFROM:-0600
TZOFFSETTO:-0500
TZNAME:CDT
DTSTART:20250309T080000
END:DAYLIGHT
BEGIN:STANDARD
TZOFFSETFROM:-0500
TZOFFSETTO:-0600
TZNAME:CST
DTSTART:20251102T070000
END:STANDARD
BEGIN:DAYLIGHT
TZOFFSETFROM:-0600
TZOFFSETTO:-0500
TZNAME:CDT
DTSTART:20260308T080000
END:DAYLIGHT
BEGIN:STANDARD
TZOFFSETFROM:-0500
TZOFFSETTO:-0600
TZNAME:CST
DTSTART:20261101T070000
END:STANDARD
END:VTIMEZONE
BEGIN:VEVENT
DTSTART;TZID=America/Chicago:20250911T183000
DTEND;TZID=America/Chicago:20250911T210000
DTSTAMP:20260425T030216
CREATED:20250822T150010Z
LAST-MODIFIED:20250911T151458Z
UID:5275-1757615400-1757624400@kccauldron.com
SUMMARY:KC Cauldron Hot Seat Town Hall
DESCRIPTION:Join us for a one-of-a-kind\, fan-focused interview with Sporting KC CEO Jake Reid\, Head Coach Kerry Zavagnin\, and Sporting Director Mike Burns! \nInspired by Hot Ones\, each guest will answer questions while trying progressively spicier Kansas City-made hot sauces. Expect behind-the-scenes stories\, honest insights\, and plenty of laughs. Seats are limited—come see who can handle the heat! \nTickets available: August 22\, 2025 — September 10\, 2025 \n\nSchedule: \n\n6:00 PM – Doors open & check-in begins\n6:30 PM – Food\, drinks\, mingling\n7:00 PM – Program kicks off\n7:45/8:00 PM – Program wraps up\, hang out\, mini golf\, yard games\, food & drinks continue\n\n\n🍴 Food & Drinks:We’ve got plenty of apps & snacks to keep you fueled: \n\nBBQ Meatballs\nBoneless Chicken Wings\nCreamy Queso Dip\nSpinach Artichoke Dip\nCheese\, Cracker & Sausage Tray\nFresh Veggie Tray\nMeat & Cheese Tray\nSeasonal Fruit Tray\nAnd yes… ICE CREAM! 🍦\n\n\n🎉 After the Program:Stick around to hang out! We’ll have: \n\n9-hole Mini Golf\nGiant Connect Four\nYard Games\nMore food & drinks\n\n\nDoors open at 6:00 PM—don’t be late\, you won’t want to miss the first question (or the first hot sauce)!
URL:https://kccauldron.com/event/kc-cauldron-hot-seat-town-hall/
LOCATION:Compass Minerals NPC\, 1913 Pinnacle Way\, Kansas City\, KS\, 66111
CATEGORIES:Member Only Events
ATTACH;FMTTYPE=image/jpeg:https://kccauldron.com/wp-content/uploads/2025/08/KC-Cauldron-Hot-Seat.jpg
END:VEVENT
END:VCALENDAR